BEGIN:VCALENDAR
PRODID:-//PUBBLE//an agenda//NL
VERSION:2.0
METHOD:PUBLISH
BEGIN:VEVENT
DTSTART:20160705T110000Z
DTEND:20160705T110000Z
DTSTAMP:20260424T191806Z
UID:0b456fb4-dec5-4041-bf0c-a6d0d16e04e5
CREATED:20260424T191806Z
URL:https://www.achterhoekfoto.nl/agenda/item/149791
NAME:rondleiding synagoge Winterswijk AchterhoekFoto.nl
X-WR-CALNAME:rondleiding synagoge Winterswijk AchterhoekFoto.nl
X-ALT-DESC;FMTTYPE=text/html:<a href='https://www.achterhoekfoto.nl/agenda/item//149791'>https://achterhoekfoto.nl/agenda/item//149791</a> || <p>Rondleiding  Synagoge Winterswijk</p><p>Rondleiding in de Synagoge van Winterswijk 
Op dinsdagavond 5 juli om 19.00 uur
De synagoge vormt het hart van het historische
complex aan de Spoorstraat in het centrum van Winterswijk.
Direct naast de synagoge bevindt zich het joodse schooltje, met hieraan verbonden het huis van de voorganger en leraar. Hier weer naast de oude joodse begraafplaats, die tot 1880 gebruikt werd.
Achter de synagoge ligt het mikwe (ritueel bad).
De synagoge en de erbij behorende gebouwen, het mikwe en de woning met school, vormen met de oude begraafplaats een geheel, dat niet alleen voor Winterswijk en Gelderland maar voor het hele land van historische waarde is.
Het hele complex is een rijksmonument.
Tijdens de zomermaanden
In juli en augustus wordt er elke dinsdagavond een
rondleiding verzorgd. Die begint om 19 uur en
duurt ongeveer anderhalf uur.

Kosten: volwassenen 4,50 euro
Kinderen: vanaf 10 jaar 2,50 euro.
Adres synagoge: Spoorstraat 32 Winterswijk.
www.synagogewinterswijk.nl
https://www.facebook.com/synagogewinterswijk.nl</p>
DESCRIPTION:<a href='https://www.achterhoekfoto.nl/agenda/item//149791'>https://www.achterhoekfoto.nl/agenda/item//149791</a> || Rondleiding  Synagoge WinterswijkRondleiding in de Synagoge van Winterswijk 
Op dinsdagavond 5 juli om 19.00 uur
De synagoge vormt het hart van het historische
complex aan de Spoorstraat in het centrum van Winterswijk.
Direct naast de synagoge bevindt zich het joodse schooltje, met hieraan verbonden het huis van de voorganger en leraar. Hier weer naast de oude joodse begraafplaats, die tot 1880 gebruikt werd.
Achter de synagoge ligt het mikwe (ritueel bad).
De synagoge en de erbij behorende gebouwen, het mikwe en de woning met school, vormen met de oude begraafplaats een geheel, dat niet alleen voor Winterswijk en Gelderland maar voor het hele land van historische waarde is.
Het hele complex is een rijksmonument.
Tijdens de zomermaanden
In juli en augustus wordt er elke dinsdagavond een
rondleiding verzorgd. Die begint om 19 uur en
duurt ongeveer anderhalf uur.

Kosten: volwassenen 4,50 euro
Kinderen: vanaf 10 jaar 2,50 euro.
Adres synagoge: Spoorstraat 32 Winterswijk.
www.synagogewinterswijk.nl
https://www.facebook.com/synagogewinterswijk.nl
LAST-MODIFIED:20260424T191806Z
LOCATION:synagoge spoorstraat,  32 7101GV Winterswijk
SEQUENCE:0
STATUS:CONFIRMED
SUMMARY:rondleiding synagoge Winterswijk
TRANSP:OPAQUE
END:VEVENT
END:VCALENDAR
