BEGIN:VCALENDAR
PRODID:-//PUBBLE//an agenda//NL
VERSION:2.0
METHOD:PUBLISH
BEGIN:VEVENT
DTSTART:20160705T080000Z
DTEND:20160705T080000Z
DTSTAMP:20260424T175950Z
UID:8daef847-8a22-41fa-a1b2-b0daa44e4da6
CREATED:20260424T175950Z
URL:https://www.achterhoekfoto.nl/agenda/item/149790
NAME:Open tuinen in en om Winterswijk AchterhoekFoto.nl
X-WR-CALNAME:Open tuinen in en om Winterswijk AchterhoekFoto.nl
X-ALT-DESC;FMTTYPE=text/html:<a href='https://www.achterhoekfoto.nl/agenda/item//149790'>https://achterhoekfoto.nl/agenda/item//149790</a> || <p>Vier bijzondere particuliere tuinen zijn open voor publiek.</p><p>De tuineigenaren willen u laten meegenieten van de paradijsjes die zij gecreëerd hebben. De toegang is gratis. 

De open tuinen zijn:
De boerderijtuin van Roelien en Wim Onnink, Bessinkgoorweg 7, 7119 AE  Winterswijk-Corle
De hostatuin van Graddie en Gijs Dreijers, Corleseweg 9, 7119 AA  Winterswijk-Corle
De liefhebberstuin van Lidy en Tonnie Buil, Morgenzonweg 150, 7101 BN  Winterswijk
Tuin 'De Morgenzunne' van Janneke Helleman en Wiebe Poppe, Morgenzonweg 136, 7101 BN  Winterswijk 

Meer informatie over de tuinen vindt u in de folder die bij VVV Winterswijk en bij de deelnemende tuinen is te verkrijgen.</p>
DESCRIPTION:<a href='https://www.achterhoekfoto.nl/agenda/item//149790'>https://www.achterhoekfoto.nl/agenda/item//149790</a> || Vier bijzondere particuliere tuinen zijn open voor publiek.De tuineigenaren willen u laten meegenieten van de paradijsjes die zij gecreëerd hebben. De toegang is gratis. 

De open tuinen zijn:
De boerderijtuin van Roelien en Wim Onnink, Bessinkgoorweg 7, 7119 AE  Winterswijk-Corle
De hostatuin van Graddie en Gijs Dreijers, Corleseweg 9, 7119 AA  Winterswijk-Corle
De liefhebberstuin van Lidy en Tonnie Buil, Morgenzonweg 150, 7101 BN  Winterswijk
Tuin 'De Morgenzunne' van Janneke Helleman en Wiebe Poppe, Morgenzonweg 136, 7101 BN  Winterswijk 

Meer informatie over de tuinen vindt u in de folder die bij VVV Winterswijk en bij de deelnemende tuinen is te verkrijgen.
LAST-MODIFIED:20260424T175950Z
LOCATION:Open tuinen Winterswijk Morgenzonweg 136 7101BN Winterswijk
SEQUENCE:0
STATUS:CONFIRMED
SUMMARY:Open tuinen in en om Winterswijk
TRANSP:OPAQUE
END:VEVENT
END:VCALENDAR
