BEGIN:VCALENDAR
PRODID:-//PUBBLE//an agenda//NL
VERSION:2.0
METHOD:PUBLISH
BEGIN:VEVENT
DTSTART:20160704T180000Z
DTEND:20160704T180000Z
DTSTAMP:20260424T163508Z
UID:11fbbd67-abaf-4f11-adc8-d49017c927ee
CREATED:20260424T163508Z
URL:https://www.achterhoekfoto.nl/agenda/item/149122
NAME:Steenovenconcert Ettens Mannenkoor op 4 juli AchterhoekFoto.nl
X-WR-CALNAME:Steenovenconcert Ettens Mannenkoor op 4 juli AchterhoekFoto.nl
X-ALT-DESC;FMTTYPE=text/html:<a href='https://www.achterhoekfoto.nl/agenda/item//149122'>https://achterhoekfoto.nl/agenda/item//149122</a> || <p>Steenovenconcert Ettens Mannenkoor op 4 juli</p><p>Het jaarlijkse Steenovenconcert (Oude IJsselweg 28 in Etten) als afsluiting van het zangseizoen zal het Ettens Mannenkoor onder leiding van Nick Moritz dit jaar geven op maandag 4 juli samen met popkoor U-nique uit Azewijn. 
De vakantie wordt ingeluid met een concert zoals men dat van het koor gewend is. Een luchtig, gezellig en avondvullend programma van oude klassiekers en nieuw repertoire. Het bijzondere aan dit concert is de ongedwongen sfeer en de unieke locatie waar het gegeven wordt. Voor het achttiende jaar wordt de loods van de voormalige steenfabriek “De IJssel” omgetoverd tot een unieke concertlocatie. Tussen twee campings en met een zomers repertoire heeft dit concert alle nodige ingrediënten in zich om volop in vakantiestemming te komen.
Het belooft net als vorige jaren weer een spetterend concert te worden met een grote opkomst. Vorig jaar waren er ongeveer 900 bezoekers.

De toegang is gratis, een vrije gift ter bestrijding van de kosten wordt aan het eind erg op prijs gesteld. Deze vrije giften helpen mee om dit concert in stand te houden.</p>
DESCRIPTION:<a href='https://www.achterhoekfoto.nl/agenda/item//149122'>https://www.achterhoekfoto.nl/agenda/item//149122</a> || Steenovenconcert Ettens Mannenkoor op 4 juliHet jaarlijkse Steenovenconcert (Oude IJsselweg 28 in Etten) als afsluiting van het zangseizoen zal het Ettens Mannenkoor onder leiding van Nick Moritz dit jaar geven op maandag 4 juli samen met popkoor U-nique uit Azewijn. 
De vakantie wordt ingeluid met een concert zoals men dat van het koor gewend is. Een luchtig, gezellig en avondvullend programma van oude klassiekers en nieuw repertoire. Het bijzondere aan dit concert is de ongedwongen sfeer en de unieke locatie waar het gegeven wordt. Voor het achttiende jaar wordt de loods van de voormalige steenfabriek “De IJssel” omgetoverd tot een unieke concertlocatie. Tussen twee campings en met een zomers repertoire heeft dit concert alle nodige ingrediënten in zich om volop in vakantiestemming te komen.
Het belooft net als vorige jaren weer een spetterend concert te worden met een grote opkomst. Vorig jaar waren er ongeveer 900 bezoekers.

De toegang is gratis, een vrije gift ter bestrijding van de kosten wordt aan het eind erg op prijs gesteld. Deze vrije giften helpen mee om dit concert in stand te houden.
LAST-MODIFIED:20260424T163508Z
LOCATION:Ettens Mannenkoor Oude IJsselweg 26 7075 DN Etten
SEQUENCE:0
STATUS:CONFIRMED
SUMMARY:Steenovenconcert Ettens Mannenkoor op 4 juli
TRANSP:OPAQUE
END:VEVENT
END:VCALENDAR
