BEGIN:VCALENDAR
PRODID:-//PUBBLE//an agenda//NL
VERSION:2.0
METHOD:PUBLISH
BEGIN:VEVENT
DTSTART:20160704T173000Z
DTEND:20160704T173000Z
DTSTAMP:20260424T152532Z
UID:6e54ff42-1416-4e1f-81b4-7a88e776845c
CREATED:20260424T152532Z
URL:https://www.achterhoekfoto.nl/agenda/item/149120
NAME:IVN Peeskeswandeling AchterhoekFoto.nl
X-WR-CALNAME:IVN Peeskeswandeling AchterhoekFoto.nl
X-ALT-DESC;FMTTYPE=text/html:<a href='https://www.achterhoekfoto.nl/agenda/item//149120'>https://achterhoekfoto.nl/agenda/item//149120</a> || <p>Met zijn in het oogspringende “spreng” vijver het Peeske  is het een feest om deze zeer gevarieerde  wandeling te maken.</p><p>'t Peeske is gelegen in de Montferlandse bossen. Het hoogst gelegen meertje deed eind negentiende eeuw dienst als waterbuffer voor een bovenslagwatermolen waarmee graan werd gemalen tot meel, de basis voor brood. 
Verder lopen we lang Wolkenland en over de stuwwal van het Bergherbos. 
De komende weken zal er op elke maandagavond weer een ander uniek plekje van Montferland een wandeling aangeboden worden. Uiteraard geheel gratis, hoewel een vrijwillige gift welkom is. Beleef het weer mee deze gezellige maandagavond wandeling georganiseerd door IVN de Oude IJsselstreek afdeling Montferland!</p>
DESCRIPTION:<a href='https://www.achterhoekfoto.nl/agenda/item//149120'>https://www.achterhoekfoto.nl/agenda/item//149120</a> || Met zijn in het oogspringende “spreng” vijver het Peeske  is het een feest om deze zeer gevarieerde  wandeling te maken.'t Peeske is gelegen in de Montferlandse bossen. Het hoogst gelegen meertje deed eind negentiende eeuw dienst als waterbuffer voor een bovenslagwatermolen waarmee graan werd gemalen tot meel, de basis voor brood. 
Verder lopen we lang Wolkenland en over de stuwwal van het Bergherbos. 
De komende weken zal er op elke maandagavond weer een ander uniek plekje van Montferland een wandeling aangeboden worden. Uiteraard geheel gratis, hoewel een vrijwillige gift welkom is. Beleef het weer mee deze gezellige maandagavond wandeling georganiseerd door IVN de Oude IJsselstreek afdeling Montferland!
LAST-MODIFIED:20260424T152532Z
LOCATION:IVN Oude IJsselstreek, vereniging Natuur en Milieu  Peeskesweg 12 7037 CH Beek
SEQUENCE:0
STATUS:CONFIRMED
SUMMARY:IVN Peeskeswandeling
TRANSP:OPAQUE
END:VEVENT
END:VCALENDAR
