BEGIN:VCALENDAR
PRODID:-//PUBBLE//an agenda//NL
VERSION:2.0
METHOD:PUBLISH
BEGIN:VEVENT
DTSTART:20160704T160000Z
DTEND:20160704T160000Z
DTSTAMP:20260424T121507Z
UID:4889aa54-e10e-4794-aa41-e1e98c7a2761
CREATED:20260424T121507Z
URL:https://www.achterhoekfoto.nl/agenda/item/149117
NAME:17e Paardenvierdaagse AchterhoekFoto.nl
X-WR-CALNAME:17e Paardenvierdaagse AchterhoekFoto.nl
X-ALT-DESC;FMTTYPE=text/html:<a href='https://www.achterhoekfoto.nl/agenda/item//149117'>https://achterhoekfoto.nl/agenda/item//149117</a> || <p>De Aangespannen Rijders Woold organiseren de 17e Paardenvierdaagse voor ruiters en koetsiers.</p><p>Van maandag t/m donderdagavond kunnen prachtige routes gereden worden door Nationaal Landschap Winterswijk. Iedere avond wordt een ander gedeelte van de paardvriendelijke omgeving bezocht. De routes zijn ongeveer 20 km lang en zowel voor de menners, als ook voor de ruiters geschikt. Tijdens de route is er een pauze waar koffie/thee of iets fris wordt aangeboden. Als drie avonden wordt deelgenomen krijgt men een blijvende herinnering.</p>
DESCRIPTION:<a href='https://www.achterhoekfoto.nl/agenda/item//149117'>https://www.achterhoekfoto.nl/agenda/item//149117</a> || De Aangespannen Rijders Woold organiseren de 17e Paardenvierdaagse voor ruiters en koetsiers.Van maandag t/m donderdagavond kunnen prachtige routes gereden worden door Nationaal Landschap Winterswijk. Iedere avond wordt een ander gedeelte van de paardvriendelijke omgeving bezocht. De routes zijn ongeveer 20 km lang en zowel voor de menners, als ook voor de ruiters geschikt. Tijdens de route is er een pauze waar koffie/thee of iets fris wordt aangeboden. Als drie avonden wordt deelgenomen krijgt men een blijvende herinnering.
LAST-MODIFIED:20260424T121507Z
LOCATION:Winterswijk Marketing Esselinkhoekweg 5 7108 CD Winterswijk
SEQUENCE:0
STATUS:CONFIRMED
SUMMARY:17e Paardenvierdaagse
TRANSP:OPAQUE
END:VEVENT
END:VCALENDAR
