BEGIN:VCALENDAR
PRODID:-//PUBBLE//an agenda//NL
VERSION:2.0
METHOD:PUBLISH
BEGIN:VEVENT
DTSTART:20160703T070000Z
DTEND:20160703T070000Z
DTSTAMP:20260423T192415Z
UID:4638d0f9-2539-4a05-a9b7-e7c22b6b40a6
CREATED:20260423T192415Z
URL:https://www.achterhoekfoto.nl/agenda/item/148483
NAME:Romienendal Festival en Klaver4tocht. AchterhoekFoto.nl
X-WR-CALNAME:Romienendal Festival en Klaver4tocht. AchterhoekFoto.nl
X-ALT-DESC;FMTTYPE=text/html:<a href='https://www.achterhoekfoto.nl/agenda/item//148483'>https://achterhoekfoto.nl/agenda/item//148483</a> || <p>Op zondag 3 juli staat 't Romienendal aan de Aladnaweg in Dale/Aalten helemaal in het teken van zang/muziek en wandelen. Eén gec</p><p>Lopend vanaf het festivalterrein kunnen wandelaars hun hart ophalen aan de Klaver4tocht. Er zijn 4 tochten van ca. 5 kilometer uitgezet die beginnen en eindigen bij 't Romienendal, waar tussen 10.00 en 17.00 uur genoten kan worden van optredens op 2 podia door diverse koren en muziekgroepen.
Een aangename invulling van de rustpauze voor de wandelaars. Voor degene die niet zo goed ter been zijn of niet van wandelen houden, maar wel van muziek, is het gewoon een mooi festival.
Er treden diverse koren op: Rock, Pop, Nederlandstalig, Close-Harmony, Achterhoeks ect.
voor info www.hartgelach.nl</p><p><a href='Lopend vanaf het festivalterrein kunnen wandelaars hun hart ophalen aan de Klaver4tocht. Er zijn 4 tochten van ca. 5 kilometer uitgezet die beginnen en eindigen bij 't Romienendal, waar tussen 10.00 en 17.00 uur genoten kan worden van optredens op 2 podia door diverse koren en muziekgroepen.
Een aangename invulling van de rustpauze voor de wandelaars. Voor degene die niet zo goed ter been zijn of niet van wandelen houden, maar wel van muziek, is het gewoon een mooi festival.
Er treden diverse koren op: Rock, Pop, Nederlandstalig, Close-Harmony, Achterhoeks ect.
voor info www.hartgelach.nl' target='blank'>Lopend vanaf het festivalterrein kunnen wandelaars hun hart ophalen aan de Klaver4tocht. Er zijn 4 tochten van ca. 5 kilometer uitgezet die beginnen en eindigen bij 't Romienendal, waar tussen 10.00 en 17.00 uur genoten kan worden van optredens op 2 podia door diverse koren en muziekgroepen.
Een aangename invulling van de rustpauze voor de wandelaars. Voor degene die niet zo goed ter been zijn of niet van wandelen houden, maar wel van muziek, is het gewoon een mooi festival.
Er treden diverse koren op: Rock, Pop, Nederlandstalig, Close-Harmony, Achterhoeks ect.
voor info www.hartgelach.nl</a></p>
DESCRIPTION:<a href='https://www.achterhoekfoto.nl/agenda/item//148483'>https://www.achterhoekfoto.nl/agenda/item//148483</a> || Op zondag 3 juli staat 't Romienendal aan de Aladnaweg in Dale/Aalten helemaal in het teken van zang/muziek en wandelen. Eén gecLopend vanaf het festivalterrein kunnen wandelaars hun hart ophalen aan de Klaver4tocht. Er zijn 4 tochten van ca. 5 kilometer uitgezet die beginnen en eindigen bij 't Romienendal, waar tussen 10.00 en 17.00 uur genoten kan worden van optredens op 2 podia door diverse koren en muziekgroepen.
Een aangename invulling van de rustpauze voor de wandelaars. Voor degene die niet zo goed ter been zijn of niet van wandelen houden, maar wel van muziek, is het gewoon een mooi festival.
Er treden diverse koren op: Rock, Pop, Nederlandstalig, Close-Harmony, Achterhoeks ect.
voor info www.hartgelach.nlLopend vanaf het festivalterrein kunnen wandelaars hun hart ophalen aan de Klaver4tocht. Er zijn 4 tochten van ca. 5 kilometer uitgezet die beginnen en eindigen bij 't Romienendal, waar tussen 10.00 en 17.00 uur genoten kan worden van optredens op 2 podia door diverse koren en muziekgroepen.
Een aangename invulling van de rustpauze voor de wandelaars. Voor degene die niet zo goed ter been zijn of niet van wandelen houden, maar wel van muziek, is het gewoon een mooi festival.
Er treden diverse koren op: Rock, Pop, Nederlandstalig, Close-Harmony, Achterhoeks ect.
voor info www.hartgelach.nl
LAST-MODIFIED:20260423T192415Z
LOCATION:VVV Aalten Aladnaweg 3 7122 RN Aalten
SEQUENCE:0
STATUS:CONFIRMED
SUMMARY:Romienendal Festival en Klaver4tocht.
TRANSP:OPAQUE
END:VEVENT
END:VCALENDAR
