BEGIN:VCALENDAR
PRODID:-//PUBBLE//an agenda//NL
VERSION:2.0
METHOD:PUBLISH
BEGIN:VEVENT
DTSTART:20160703T060000Z
DTEND:20160703T060000Z
DTSTAMP:20260423T180444Z
UID:c6e2102e-5c4b-4b7b-b2cc-4e464bb0a94f
CREATED:20260423T180444Z
URL:https://www.achterhoekfoto.nl/agenda/item/148482
NAME:Winterswijks race & MTB-spektakel AchterhoekFoto.nl
X-WR-CALNAME:Winterswijks race & MTB-spektakel AchterhoekFoto.nl
X-ALT-DESC;FMTTYPE=text/html:<a href='https://www.achterhoekfoto.nl/agenda/item//148482'>https://achterhoekfoto.nl/agenda/item//148482</a> || <p>FTC Wenters organiseert voor zowel de mountainbikers als de racefietsers een fietsevenement.</p><p>Het Winterswijks race & MTB spektakel.

 Vertrek: Clubgebouw FTC Wenters.</p><p><a href='Het Winterswijks race & MTB spektakel.

 Vertrek: Clubgebouw FTC Wenters.' target='blank'>Het Winterswijks race & MTB spektakel.

 Vertrek: Clubgebouw FTC Wenters.</a></p>
DESCRIPTION:<a href='https://www.achterhoekfoto.nl/agenda/item//148482'>https://www.achterhoekfoto.nl/agenda/item//148482</a> || FTC Wenters organiseert voor zowel de mountainbikers als de racefietsers een fietsevenement.Het Winterswijks race & MTB spektakel.

 Vertrek: Clubgebouw FTC Wenters.Het Winterswijks race & MTB spektakel.

 Vertrek: Clubgebouw FTC Wenters.
LAST-MODIFIED:20260423T180444Z
LOCATION:Winterswijk Marketing Huininkmaat 3 7101 JL Winterswijk
SEQUENCE:0
STATUS:CONFIRMED
SUMMARY:Winterswijks race & MTB-spektakel
TRANSP:OPAQUE
END:VEVENT
END:VCALENDAR
