BEGIN:VCALENDAR
PRODID:-//PUBBLE//an agenda//NL
VERSION:2.0
METHOD:PUBLISH
BEGIN:VEVENT
DTSTART:20160703T170000Z
DTEND:20160703T170000Z
DTSTAMP:20260424T093212Z
UID:82c9c3a2-d007-4015-9189-ab27e8bebacb
CREATED:20260424T093212Z
URL:https://www.achterhoekfoto.nl/agenda/item/148481
NAME:Ont-moeten AchterhoekFoto.nl
X-WR-CALNAME:Ont-moeten AchterhoekFoto.nl
X-ALT-DESC;FMTTYPE=text/html:<a href='https://www.achterhoekfoto.nl/agenda/item//148481'>https://achterhoekfoto.nl/agenda/item//148481</a> || <p>Ont-moeten</p><p>Ont-moeten
Over de gaven van de Heilige Geest.
Luister, denk en praat mee over dit onderwerp tijdens het ont-moeten op zondag 3 juli om 19.00 uur in het Achterhuus, achter de Geref. Kerk Zutphenseweg 13 in Vorden. Ont-moeten is een infor-mele bijeenkomst van ongeveer een half uur en daarna koffie/thee. Nelleke van Wettum uit Apeldoorn zal vertellen over haar persoon-lijke ervaring met de gaven van de Geest, zoals die in de bijbel ge-noemd worden; tongentaal, profetie, woorden van kennis en inner-lijke genezing.  Nelleke is ouderling in de Potestantse kerk in Apel-doorn en wil graag haar ervaringen met ons delen en daarover met ons in gesprek gaan. Hartelijk welkom, zondag 3 juli a.s. 19.00 u.</p>
DESCRIPTION:<a href='https://www.achterhoekfoto.nl/agenda/item//148481'>https://www.achterhoekfoto.nl/agenda/item//148481</a> || Ont-moetenOnt-moeten
Over de gaven van de Heilige Geest.
Luister, denk en praat mee over dit onderwerp tijdens het ont-moeten op zondag 3 juli om 19.00 uur in het Achterhuus, achter de Geref. Kerk Zutphenseweg 13 in Vorden. Ont-moeten is een infor-mele bijeenkomst van ongeveer een half uur en daarna koffie/thee. Nelleke van Wettum uit Apeldoorn zal vertellen over haar persoon-lijke ervaring met de gaven van de Geest, zoals die in de bijbel ge-noemd worden; tongentaal, profetie, woorden van kennis en inner-lijke genezing.  Nelleke is ouderling in de Potestantse kerk in Apel-doorn en wil graag haar ervaringen met ons delen en daarover met ons in gesprek gaan. Hartelijk welkom, zondag 3 juli a.s. 19.00 u.
LAST-MODIFIED:20260424T093212Z
LOCATION:Evangelisatie commissie Vorden Zutphenseweg 13 7251 DG Vorden
SEQUENCE:0
STATUS:CONFIRMED
SUMMARY:Ont-moeten
TRANSP:OPAQUE
END:VEVENT
END:VCALENDAR
