BEGIN:VCALENDAR
PRODID:-//PUBBLE//an agenda//NL
VERSION:2.0
METHOD:PUBLISH
BEGIN:VEVENT
DTSTART:20160703T140000Z
DTEND:20160703T140000Z
DTSTAMP:20260424T081847Z
UID:c88958f9-7366-4c55-8ede-1c3952f532b9
CREATED:20260424T081847Z
URL:https://www.achterhoekfoto.nl/agenda/item/148479
NAME:Orgelvesper Walburgiskerk Zutphen AchterhoekFoto.nl
X-WR-CALNAME:Orgelvesper Walburgiskerk Zutphen AchterhoekFoto.nl
X-ALT-DESC;FMTTYPE=text/html:<a href='https://www.achterhoekfoto.nl/agenda/item//148479'>https://achterhoekfoto.nl/agenda/item//148479</a> || <p>orgelvesper</p><p>De orgelvesper op zondag 24 juli begint iets later dan gewoon namelijk om 16:30 uur. Het Baderorgel wordt bespeeld door Gert Oldenbeuving en Marrit Bassa is liturg.
Het is een moment van rust en inkeer met veel muziek en inspirerende teksten.
Toegang vrij en collecte.</p>
DESCRIPTION:<a href='https://www.achterhoekfoto.nl/agenda/item//148479'>https://www.achterhoekfoto.nl/agenda/item//148479</a> || orgelvesperDe orgelvesper op zondag 24 juli begint iets later dan gewoon namelijk om 16:30 uur. Het Baderorgel wordt bespeeld door Gert Oldenbeuving en Marrit Bassa is liturg.
Het is een moment van rust en inkeer met veel muziek en inspirerende teksten.
Toegang vrij en collecte.
LAST-MODIFIED:20260424T081847Z
LOCATION:    
SEQUENCE:0
STATUS:CONFIRMED
SUMMARY:Orgelvesper Walburgiskerk Zutphen
TRANSP:OPAQUE
END:VEVENT
END:VCALENDAR
