BEGIN:VCALENDAR
PRODID:-//PUBBLE//an agenda//NL
VERSION:2.0
METHOD:PUBLISH
BEGIN:VEVENT
DTSTART:20160703T130000Z
DTEND:20160703T130000Z
DTSTAMP:20260424T070032Z
UID:0899357d-44ea-4856-be01-0648114a3e11
CREATED:20260424T070032Z
URL:https://www.achterhoekfoto.nl/agenda/item/148476
NAME:Concerten  van  de  Stichting  Kamermuziek  aan  de  Berkel AchterhoekFoto.nl
X-WR-CALNAME:Concerten  van  de  Stichting  Kamermuziek  aan  de  Berkel AchterhoekFoto.nl
X-ALT-DESC;FMTTYPE=text/html:<a href='https://www.achterhoekfoto.nl/agenda/item//148476'>https://achterhoekfoto.nl/agenda/item//148476</a> || <p>Concerten  van  de  Stichting  Kamermuziek  aan  de  Berkel</p><p>24  juli is  het  de  beurt  aan  het  Isabelle  van  Keulen  Ensemble  (viool, bandoneon,  piano  en  contrabas)  met  een  programma  geheel  gewijd  aan  Piazzolla,  waaronder  het  beroemde  ‘Adios  Nonino’  (Maxima  en  de  tranen).                                                                       
Voor  kaarten  en  info:  www.kamermuziekaandeberkel.nl</p>
DESCRIPTION:<a href='https://www.achterhoekfoto.nl/agenda/item//148476'>https://www.achterhoekfoto.nl/agenda/item//148476</a> || Concerten  van  de  Stichting  Kamermuziek  aan  de  Berkel24  juli is  het  de  beurt  aan  het  Isabelle  van  Keulen  Ensemble  (viool, bandoneon,  piano  en  contrabas)  met  een  programma  geheel  gewijd  aan  Piazzolla,  waaronder  het  beroemde  ‘Adios  Nonino’  (Maxima  en  de  tranen).                                                                       
Voor  kaarten  en  info:  www.kamermuziekaandeberkel.nl
LAST-MODIFIED:20260424T070032Z
LOCATION:VVV Lochem Witzand 4 7244 NC Barchem
SEQUENCE:0
STATUS:CONFIRMED
SUMMARY:Concerten  van  de  Stichting  Kamermuziek  aan  de  Berkel
TRANSP:OPAQUE
END:VEVENT
END:VCALENDAR
