BEGIN:VCALENDAR
PRODID:-//PUBBLE//an agenda//NL
VERSION:2.0
METHOD:PUBLISH
BEGIN:VEVENT
DTSTART:20160703T123000Z
DTEND:20160703T123000Z
DTSTAMP:20260424T054427Z
UID:f1cd01b5-2795-419a-aa6c-8a925ef74e62
CREATED:20260424T054427Z
URL:https://www.achterhoekfoto.nl/agenda/item/148474
NAME:Verrassing, alleen bij goed weer!! AchterhoekFoto.nl
X-WR-CALNAME:Verrassing, alleen bij goed weer!! AchterhoekFoto.nl
X-ALT-DESC;FMTTYPE=text/html:<a href='https://www.achterhoekfoto.nl/agenda/item//148474'>https://achterhoekfoto.nl/agenda/item//148474</a> || <p>Verrassingsmiddag</p><p>ALLEEN BIJ GOED WEER.</p>
DESCRIPTION:<a href='https://www.achterhoekfoto.nl/agenda/item//148474'>https://www.achterhoekfoto.nl/agenda/item//148474</a> || VerrassingsmiddagALLEEN BIJ GOED WEER.
LAST-MODIFIED:20260424T054427Z
LOCATION:Stichting Muziekkoepel Vorden Enkweg 10a 7251EW Vorden
SEQUENCE:0
STATUS:CONFIRMED
SUMMARY:Verrassing, alleen bij goed weer!!
TRANSP:OPAQUE
END:VEVENT
END:VCALENDAR
