BEGIN:VCALENDAR
PRODID:-//PUBBLE//an agenda//NL
VERSION:2.0
METHOD:PUBLISH
BEGIN:VEVENT
DTSTART:20160703T120000Z
DTEND:20160703T120000Z
DTSTAMP:20260424T042255Z
UID:ad81e126-d295-4b7d-91c7-3ed457274f6c
CREATED:20260424T042255Z
URL:https://www.achterhoekfoto.nl/agenda/item/148473
NAME:IVN-wandeling door en rondom Hoog-Keppel AchterhoekFoto.nl
X-WR-CALNAME:IVN-wandeling door en rondom Hoog-Keppel AchterhoekFoto.nl
X-ALT-DESC;FMTTYPE=text/html:<a href='https://www.achterhoekfoto.nl/agenda/item//148473'>https://achterhoekfoto.nl/agenda/item//148473</a> || <p>IVN-wandeling door en rondom Hoog-Keppel</p><p>Een stevige wandeling met aandacht voor natuur en cultuur door en rondom Hoog-Keppel. Van 14.00-16.00 uur. Vertrek vanaf de Burg. van Panhuysbrink, 6997 AA Hoog-Keppel.
Contactpersoon: Herman Pelgrom, tel. (0314) 382698.
Informatie over deze en andere activiteiten van het Instituut Voor Natuureducatie en duurzaamheid is te vinden op de website van het IVN.</p>
DESCRIPTION:<a href='https://www.achterhoekfoto.nl/agenda/item//148473'>https://www.achterhoekfoto.nl/agenda/item//148473</a> || IVN-wandeling door en rondom Hoog-KeppelEen stevige wandeling met aandacht voor natuur en cultuur door en rondom Hoog-Keppel. Van 14.00-16.00 uur. Vertrek vanaf de Burg. van Panhuysbrink, 6997 AA Hoog-Keppel.
Contactpersoon: Herman Pelgrom, tel. (0314) 382698.
Informatie over deze en andere activiteiten van het Instituut Voor Natuureducatie en duurzaamheid is te vinden op de website van het IVN.
LAST-MODIFIED:20260424T042255Z
LOCATION:Wat is er te doen in Drempt, Hummelo en Keppel Burg. Van Panhuysbrink 1 6997 AA Hoog-Keppel
SEQUENCE:0
STATUS:CONFIRMED
SUMMARY:IVN-wandeling door en rondom Hoog-Keppel
TRANSP:OPAQUE
END:VEVENT
END:VCALENDAR
