BEGIN:VCALENDAR
PRODID:-//PUBBLE//an agenda//NL
VERSION:2.0
METHOD:PUBLISH
BEGIN:VEVENT
DTSTART:20160703T113000Z
DTEND:20160703T113000Z
DTSTAMP:20260424T031129Z
UID:fb091502-219c-4cda-bdd8-16f1e1d5577b
CREATED:20260424T031129Z
URL:https://www.achterhoekfoto.nl/agenda/item/148472
NAME:Stadswandeling Joods Zutphen AchterhoekFoto.nl
X-WR-CALNAME:Stadswandeling Joods Zutphen AchterhoekFoto.nl
X-ALT-DESC;FMTTYPE=text/html:<a href='https://www.achterhoekfoto.nl/agenda/item//148472'>https://achterhoekfoto.nl/agenda/item//148472</a> || <p>Stadswandeling Joods Zutphen</p><p>Aan de hand van gebouwen, panden en sporen van Joods leven wordt er o.l.v. een gids een route gelopen door Nieuwstad- en het Barlhezekwartier. Daarbij komen gebouwen en hun voormalige bewoners uit het verleden ter sprake. Dat levert een beeld op van Joods leven in Zutphen, voornamelijk van voor 1945.

Hierbij wordt niet alleen aandacht gegeven aan de gebouwen, maar juist ook aan de inwoners. Zo wordt over slager Hamburg verteld, die al in 1836 zijn zaak aan het Broederenkerkhof had. Ook aan bod komt voddenkoopman Meyer Lipschits voor wie een fraai muurmonumentje voor is opgericht. Zo komen de deelnemers aan de wandeling veel te weten over het Joods leven in Zutphen van de achttiende eeuw tot heden.

De wandeling start bij de ingang van de Synagoge in de Dieserstraat om 13.30. De route, van ongeveer 1½ uur, eindigt met koffie/thee in de Synagoge. 

Uw vrijwillige bijdrage zal gebruikt worden ten gunste van de restauratie van de Joodse Begraafplaats van Zutphen (buiten de route).
Informatie en opgave : 
mail: wandeling@mendelson.nl of telefoon 06-17272159 (evt. antwoordapparaat)</p><p><a href='Aan de hand van gebouwen, panden en sporen van Joods leven wordt er o.l.v. een gids een route gelopen door Nieuwstad- en het Barlhezekwartier. Daarbij komen gebouwen en hun voormalige bewoners uit het verleden ter sprake. Dat levert een beeld op van Joods leven in Zutphen, voornamelijk van voor 1945.

Hierbij wordt niet alleen aandacht gegeven aan de gebouwen, maar juist ook aan de inwoners. Zo wordt over slager Hamburg verteld, die al in 1836 zijn zaak aan het Broederenkerkhof had. Ook aan bod komt voddenkoopman Meyer Lipschits voor wie een fraai muurmonumentje voor is opgericht. Zo komen de deelnemers aan de wandeling veel te weten over het Joods leven in Zutphen van de achttiende eeuw tot heden.

De wandeling start bij de ingang van de Synagoge in de Dieserstraat om 13.30. De route, van ongeveer 1½ uur, eindigt met koffie/thee in de Synagoge. 

Uw vrijwillige bijdrage zal gebruikt worden ten gunste van de restauratie van de Joodse Begraafplaats van Zutphen (buiten de route).
Informatie en opgave : 
mail: wandeling@mendelson.nl of telefoon 06-17272159 (evt. antwoordapparaat)' target='blank'>Aan de hand van gebouwen, panden en sporen van Joods leven wordt er o.l.v. een gids een route gelopen door Nieuwstad- en het Barlhezekwartier. Daarbij komen gebouwen en hun voormalige bewoners uit het verleden ter sprake. Dat levert een beeld op van Joods leven in Zutphen, voornamelijk van voor 1945.

Hierbij wordt niet alleen aandacht gegeven aan de gebouwen, maar juist ook aan de inwoners. Zo wordt over slager Hamburg verteld, die al in 1836 zijn zaak aan het Broederenkerkhof had. Ook aan bod komt voddenkoopman Meyer Lipschits voor wie een fraai muurmonumentje voor is opgericht. Zo komen de deelnemers aan de wandeling veel te weten over het Joods leven in Zutphen van de achttiende eeuw tot heden.

De wandeling start bij de ingang van de Synagoge in de Dieserstraat om 13.30. De route, van ongeveer 1½ uur, eindigt met koffie/thee in de Synagoge. 

Uw vrijwillige bijdrage zal gebruikt worden ten gunste van de restauratie van de Joodse Begraafplaats van Zutphen (buiten de route).
Informatie en opgave : 
mail: wandeling@mendelson.nl of telefoon 06-17272159 (evt. antwoordapparaat)</a></p>
DESCRIPTION:<a href='https://www.achterhoekfoto.nl/agenda/item//148472'>https://www.achterhoekfoto.nl/agenda/item//148472</a> || Stadswandeling Joods ZutphenAan de hand van gebouwen, panden en sporen van Joods leven wordt er o.l.v. een gids een route gelopen door Nieuwstad- en het Barlhezekwartier. Daarbij komen gebouwen en hun voormalige bewoners uit het verleden ter sprake. Dat levert een beeld op van Joods leven in Zutphen, voornamelijk van voor 1945.

Hierbij wordt niet alleen aandacht gegeven aan de gebouwen, maar juist ook aan de inwoners. Zo wordt over slager Hamburg verteld, die al in 1836 zijn zaak aan het Broederenkerkhof had. Ook aan bod komt voddenkoopman Meyer Lipschits voor wie een fraai muurmonumentje voor is opgericht. Zo komen de deelnemers aan de wandeling veel te weten over het Joods leven in Zutphen van de achttiende eeuw tot heden.

De wandeling start bij de ingang van de Synagoge in de Dieserstraat om 13.30. De route, van ongeveer 1½ uur, eindigt met koffie/thee in de Synagoge. 

Uw vrijwillige bijdrage zal gebruikt worden ten gunste van de restauratie van de Joodse Begraafplaats van Zutphen (buiten de route).
Informatie en opgave : 
mail: wandeling@mendelson.nl of telefoon 06-17272159 (evt. antwoordapparaat)Aan de hand van gebouwen, panden en sporen van Joods leven wordt er o.l.v. een gids een route gelopen door Nieuwstad- en het Barlhezekwartier. Daarbij komen gebouwen en hun voormalige bewoners uit het verleden ter sprake. Dat levert een beeld op van Joods leven in Zutphen, voornamelijk van voor 1945.

Hierbij wordt niet alleen aandacht gegeven aan de gebouwen, maar juist ook aan de inwoners. Zo wordt over slager Hamburg verteld, die al in 1836 zijn zaak aan het Broederenkerkhof had. Ook aan bod komt voddenkoopman Meyer Lipschits voor wie een fraai muurmonumentje voor is opgericht. Zo komen de deelnemers aan de wandeling veel te weten over het Joods leven in Zutphen van de achttiende eeuw tot heden.

De wandeling start bij de ingang van de Synagoge in de Dieserstraat om 13.30. De route, van ongeveer 1½ uur, eindigt met koffie/thee in de Synagoge. 

Uw vrijwillige bijdrage zal gebruikt worden ten gunste van de restauratie van de Joodse Begraafplaats van Zutphen (buiten de route).
Informatie en opgave : 
mail: wandeling@mendelson.nl of telefoon 06-17272159 (evt. antwoordapparaat)
LAST-MODIFIED:20260424T031129Z
LOCATION:Werkgroep Joodse Geschiedenis Zutphen Dieserstraat 11 7201 NA Zutphen
SEQUENCE:0
STATUS:CONFIRMED
SUMMARY:Stadswandeling Joods Zutphen
TRANSP:OPAQUE
END:VEVENT
END:VCALENDAR
