BEGIN:VCALENDAR
PRODID:-//PUBBLE//an agenda//NL
VERSION:2.0
METHOD:PUBLISH
BEGIN:VEVENT
DTSTART:20160703T110000Z
DTEND:20160703T110000Z
DTSTAMP:20260424T020116Z
UID:b8a7ff0e-f020-4541-a8d2-931f46fc1c94
CREATED:20260424T020116Z
URL:https://www.achterhoekfoto.nl/agenda/item/148469
NAME:Koopzondag in Lichtenvoorde AchterhoekFoto.nl
X-WR-CALNAME:Koopzondag in Lichtenvoorde AchterhoekFoto.nl
X-ALT-DESC;FMTTYPE=text/html:<a href='https://www.achterhoekfoto.nl/agenda/item//148469'>https://achterhoekfoto.nl/agenda/item//148469</a> || <p>Koopzondag in Lichtenvoorde</p><p>Elke 1e zondag van de maand bieden we bestaande en nieuwe klanten een extra optie om te shoppen en vertoeven in ons centrum. Lichtenvoorde heeft een prachtig winkelaanbod en veel gevarieerde horeca zodat we de bezoekers uit de hele regio een optimale beleving kunnen geven. De trend voor online shoppen raakt steeds meer in balans met fysiek winkelen. Onderzoek wijst dit uit. De voordelen van fysiek winkelen, gecombineerd met een lunch of kopje koffie in de nabijgelegen horeca wint aan populariteit. Wees welkom!</p><p><a href='Elke 1e zondag van de maand bieden we bestaande en nieuwe klanten een extra optie om te shoppen en vertoeven in ons centrum. Lichtenvoorde heeft een prachtig winkelaanbod en veel gevarieerde horeca zodat we de bezoekers uit de hele regio een optimale beleving kunnen geven. De trend voor online shoppen raakt steeds meer in balans met fysiek winkelen. Onderzoek wijst dit uit. De voordelen van fysiek winkelen, gecombineerd met een lunch of kopje koffie in de nabijgelegen horeca wint aan populariteit. Wees welkom!' target='blank'>Elke 1e zondag van de maand bieden we bestaande en nieuwe klanten een extra optie om te shoppen en vertoeven in ons centrum. Lichtenvoorde heeft een prachtig winkelaanbod en veel gevarieerde horeca zodat we de bezoekers uit de hele regio een optimale beleving kunnen geven. De trend voor online shoppen raakt steeds meer in balans met fysiek winkelen. Onderzoek wijst dit uit. De voordelen van fysiek winkelen, gecombineerd met een lunch of kopje koffie in de nabijgelegen horeca wint aan populariteit. Wees welkom!</a></p>
DESCRIPTION:<a href='https://www.achterhoekfoto.nl/agenda/item//148469'>https://www.achterhoekfoto.nl/agenda/item//148469</a> || Koopzondag in LichtenvoordeElke 1e zondag van de maand bieden we bestaande en nieuwe klanten een extra optie om te shoppen en vertoeven in ons centrum. Lichtenvoorde heeft een prachtig winkelaanbod en veel gevarieerde horeca zodat we de bezoekers uit de hele regio een optimale beleving kunnen geven. De trend voor online shoppen raakt steeds meer in balans met fysiek winkelen. Onderzoek wijst dit uit. De voordelen van fysiek winkelen, gecombineerd met een lunch of kopje koffie in de nabijgelegen horeca wint aan populariteit. Wees welkom!Elke 1e zondag van de maand bieden we bestaande en nieuwe klanten een extra optie om te shoppen en vertoeven in ons centrum. Lichtenvoorde heeft een prachtig winkelaanbod en veel gevarieerde horeca zodat we de bezoekers uit de hele regio een optimale beleving kunnen geven. De trend voor online shoppen raakt steeds meer in balans met fysiek winkelen. Onderzoek wijst dit uit. De voordelen van fysiek winkelen, gecombineerd met een lunch of kopje koffie in de nabijgelegen horeca wint aan populariteit. Wees welkom!
LAST-MODIFIED:20260424T020116Z
LOCATION:VVV Oost Gelre Centrum - 7131 CG Lichtenvoorde
SEQUENCE:0
STATUS:CONFIRMED
SUMMARY:Koopzondag in Lichtenvoorde
TRANSP:OPAQUE
END:VEVENT
END:VCALENDAR
