BEGIN:VCALENDAR
PRODID:-//PUBBLE//an agenda//NL
VERSION:2.0
METHOD:PUBLISH
BEGIN:VEVENT
DTSTART:20160703T100000Z
DTEND:20161204T100000Z
DTSTAMP:20260424T004505Z
UID:9be64d16-65b6-45b4-a975-1156fa9d7aa0
CREATED:20260424T004505Z
URL:https://www.achterhoekfoto.nl/agenda/item/148464
NAME:Culturele Zondag AchterhoekFoto.nl
X-WR-CALNAME:Culturele Zondag AchterhoekFoto.nl
X-ALT-DESC;FMTTYPE=text/html:<a href='https://www.achterhoekfoto.nl/agenda/item//148464'>https://achterhoekfoto.nl/agenda/item//148464</a> || <p>Culturele Zondag</p><p>Een culturele route op iedere 1e zondag van de maand langs ateliers,galeries,musea en podia. Tevens is er de mogelijkheid om met een gids van de VVV de Martinitoren te beklimmen om 15.30 uur. Kaartje vooraf te koop op de VVV.</p><p><a href='Een culturele route op iedere 1e zondag van de maand langs ateliers,galeries,musea en podia. Tevens is er de mogelijkheid om met een gids van de VVV de Martinitoren te beklimmen om 15.30 uur. Kaartje vooraf te koop op de VVV.' target='blank'>Een culturele route op iedere 1e zondag van de maand langs ateliers,galeries,musea en podia. Tevens is er de mogelijkheid om met een gids van de VVV de Martinitoren te beklimmen om 15.30 uur. Kaartje vooraf te koop op de VVV.</a></p>
DESCRIPTION:<a href='https://www.achterhoekfoto.nl/agenda/item//148464'>https://www.achterhoekfoto.nl/agenda/item//148464</a> || Culturele ZondagEen culturele route op iedere 1e zondag van de maand langs ateliers,galeries,musea en podia. Tevens is er de mogelijkheid om met een gids van de VVV de Martinitoren te beklimmen om 15.30 uur. Kaartje vooraf te koop op de VVV.Een culturele route op iedere 1e zondag van de maand langs ateliers,galeries,musea en podia. Tevens is er de mogelijkheid om met een gids van de VVV de Martinitoren te beklimmen om 15.30 uur. Kaartje vooraf te koop op de VVV.
LAST-MODIFIED:20260424T004505Z
LOCATION:VVV Doesburg Gasthuisstraat 13 6981CP Doesburg
SEQUENCE:0
STATUS:CONFIRMED
SUMMARY:Culturele Zondag
TRANSP:OPAQUE
END:VEVENT
END:VCALENDAR
