BEGIN:VCALENDAR
PRODID:-//PUBBLE//an agenda//NL
VERSION:2.0
METHOD:PUBLISH
BEGIN:VEVENT
DTSTART:20160703T083000Z
DTEND:20160703T083000Z
DTSTAMP:20260423T215344Z
UID:a1369d02-e0f7-4007-b624-faafb013f461
CREATED:20260423T215344Z
URL:https://www.achterhoekfoto.nl/agenda/item/148456
NAME:Sint Paulusdag AchterhoekFoto.nl
X-WR-CALNAME:Sint Paulusdag AchterhoekFoto.nl
X-ALT-DESC;FMTTYPE=text/html:<a href='https://www.achterhoekfoto.nl/agenda/item//148456'>https://achterhoekfoto.nl/agenda/item//148456</a> || <p>Viering St. Paulusparochie in de tuin van Erve Kots</p><p>Om het 'Paulus gevoel' te versterken organiseren wij jaarlijks in een andere locatie een St. Paulusdag. Dit jaar in Lievelde.
Georganiseerd door parochianen en voor alle 7 geloofsgemeenschappen m.m.v. de pastores.

De dag begint om 10.30 uur met een eucharistieviering, bij goed weer in de tuin bij museum Erve Kots en de dag zal rond 14.00 uur eindigen.
_Harmonie St. Willibrord verzorgt die dag een zomerconcert op het terrein van Erve Kots_ 

De activiteit na de lunch past goed in dit Jaar van Barmhartigheid:
op verschillende plekken in het openlucht museum vertellen mensen uit 
onze omgeving hoe zij oog en oor hebben voor onze naasten. 

In verschillende workshops kunt u kennis nemen van hun werkzaamheden 
en uw vragen aan hen voorleggen!
Uiteraard is er tussendoor of naderhand gelegenheid om rond te kijken in 
het prachtige museum. 

Graag zien we u allen op zondag 3 juli in de tuin bij museum Erve Kots,
Eimersweg 4 in Lievelde. 

U kunt zich aanmelden bij het secretariaat van uw eigen geloofsgemeenschap of door uw naam en adres te mailen naar st.paulusdag@gmail.com. Voor het bijwonen van de viering hoeft u zich niet aan te melden.</p>
DESCRIPTION:<a href='https://www.achterhoekfoto.nl/agenda/item//148456'>https://www.achterhoekfoto.nl/agenda/item//148456</a> || Viering St. Paulusparochie in de tuin van Erve KotsOm het 'Paulus gevoel' te versterken organiseren wij jaarlijks in een andere locatie een St. Paulusdag. Dit jaar in Lievelde.
Georganiseerd door parochianen en voor alle 7 geloofsgemeenschappen m.m.v. de pastores.

De dag begint om 10.30 uur met een eucharistieviering, bij goed weer in de tuin bij museum Erve Kots en de dag zal rond 14.00 uur eindigen.
_Harmonie St. Willibrord verzorgt die dag een zomerconcert op het terrein van Erve Kots_ 

De activiteit na de lunch past goed in dit Jaar van Barmhartigheid:
op verschillende plekken in het openlucht museum vertellen mensen uit 
onze omgeving hoe zij oog en oor hebben voor onze naasten. 

In verschillende workshops kunt u kennis nemen van hun werkzaamheden 
en uw vragen aan hen voorleggen!
Uiteraard is er tussendoor of naderhand gelegenheid om rond te kijken in 
het prachtige museum. 

Graag zien we u allen op zondag 3 juli in de tuin bij museum Erve Kots,
Eimersweg 4 in Lievelde. 

U kunt zich aanmelden bij het secretariaat van uw eigen geloofsgemeenschap of door uw naam en adres te mailen naar st.paulusdag@gmail.com. Voor het bijwonen van de viering hoeft u zich niet aan te melden.
LAST-MODIFIED:20260423T215344Z
LOCATION:H. Calixtusbasiliek Eimersweg 4 7137 HG Lievelde
SEQUENCE:0
STATUS:CONFIRMED
SUMMARY:Sint Paulusdag
TRANSP:OPAQUE
END:VEVENT
END:VCALENDAR
