BEGIN:VCALENDAR
PRODID:-//PUBBLE//an agenda//NL
VERSION:2.0
METHOD:PUBLISH
BEGIN:VEVENT
DTSTART:20160703T080000Z
DTEND:20160703T080000Z
DTSTAMP:20260423T204110Z
UID:91bde74d-fc6f-4dfe-bda0-ae811825d256
CREATED:20260423T204110Z
URL:https://www.achterhoekfoto.nl/agenda/item/148443
NAME:"Volop Achterhoek" zie en proef wat de Achterhoek biedt, Ulft AchterhoekFoto.nl
X-WR-CALNAME:"Volop Achterhoek" zie en proef wat de Achterhoek biedt, Ulft AchterhoekFoto.nl
X-ALT-DESC;FMTTYPE=text/html:<a href='https://www.achterhoekfoto.nl/agenda/item//148443'>https://achterhoekfoto.nl/agenda/item//148443</a> || <p>Volop Achterhoek , beleef de Achterhoek in de SSP Hal , Ulft</p><p>In de verwarmde SSP-HAL zullen diverse “belevingspleinen” worden gecreëerd, elk met een ander thema en andere producten.
Volop Achterhoek is de ontmoetingsplek voor mensen die geïnteresseerd zijn in de Achterhoek en alles wat hiermee te maken heeft:
-toerisme
-nieuwe producten en diensten
-streekproducten
-snuffelen in tweedehands spullen
-het elkaar ontmoeten
-cultuur, kunst, muziek en hobby
-delen van ervaringen met elkaar.

Ook aan de kinderen wordt VOLOP gedacht door middel van diverse springkussens en activiteiten. Kortom een heerlijke dag voor het hele gezin. 

de SSP Hal is een van de Industriele Erfgoederen op het DRU Industriepark, welke onlangs officieel als #ERIH ( European Route of Industrial Heritage ) ankerpunt werd erkend , het park zelf is al een belevenis op zich !

Toegang : Gratis !!</p>
DESCRIPTION:<a href='https://www.achterhoekfoto.nl/agenda/item//148443'>https://www.achterhoekfoto.nl/agenda/item//148443</a> || Volop Achterhoek , beleef de Achterhoek in de SSP Hal , UlftIn de verwarmde SSP-HAL zullen diverse “belevingspleinen” worden gecreëerd, elk met een ander thema en andere producten.
Volop Achterhoek is de ontmoetingsplek voor mensen die geïnteresseerd zijn in de Achterhoek en alles wat hiermee te maken heeft:
-toerisme
-nieuwe producten en diensten
-streekproducten
-snuffelen in tweedehands spullen
-het elkaar ontmoeten
-cultuur, kunst, muziek en hobby
-delen van ervaringen met elkaar.

Ook aan de kinderen wordt VOLOP gedacht door middel van diverse springkussens en activiteiten. Kortom een heerlijke dag voor het hele gezin. 

de SSP Hal is een van de Industriele Erfgoederen op het DRU Industriepark, welke onlangs officieel als #ERIH ( European Route of Industrial Heritage ) ankerpunt werd erkend , het park zelf is al een belevenis op zich !

Toegang : Gratis !!
LAST-MODIFIED:20260423T204110Z
LOCATION:SSP-HAL ULFT DRU-Laan 2 7071UL Ulft
SEQUENCE:0
STATUS:CONFIRMED
SUMMARY:"Volop Achterhoek" zie en proef wat de Achterhoek biedt, Ulft
TRANSP:OPAQUE
END:VEVENT
END:VCALENDAR
