BEGIN:VCALENDAR
PRODID:-//PUBBLE//an agenda//NL
VERSION:2.0
METHOD:PUBLISH
BEGIN:VEVENT
DTSTART:20160702T200000Z
DTEND:20160702T200000Z
DTSTAMP:20260423T163738Z
UID:fc9b0a34-9614-4baa-8bf8-511545e24641
CREATED:20260423T163738Z
URL:https://www.achterhoekfoto.nl/agenda/item/147835
NAME:Laat Romantisch Zaterdagavondconcert bij Kaarslicht AchterhoekFoto.nl
X-WR-CALNAME:Laat Romantisch Zaterdagavondconcert bij Kaarslicht AchterhoekFoto.nl
X-ALT-DESC;FMTTYPE=text/html:<a href='https://www.achterhoekfoto.nl/agenda/item//147835'>https://achterhoekfoto.nl/agenda/item//147835</a> || <p>Laat Romantisch Zaterdagavondconcert bij kaarslicht</p><p>Een heerlijk uurtje vroege muziek voor de late avond wordt sfeervol gebracht door de harpiste Annegreet Rouw samen met de sopraan Elske te Lindert. 
Het is laat, schemerdonker in de kerk en de kaarsenluchters branden.

Dorpskerk Vorden, Laat Romantisch Zaterdagavondconcert bij kaarslicht
Zaterdag 2 juli 2016, aanvang 22.00 uur.
Toegang € 10,00 t/m 16 jaar vrij.
www.vriendenvandedorpskerkvorden.nl.</p><p><a href='Een heerlijk uurtje vroege muziek voor de late avond wordt sfeervol gebracht door de harpiste Annegreet Rouw samen met de sopraan Elske te Lindert. 
Het is laat, schemerdonker in de kerk en de kaarsenluchters branden.

Dorpskerk Vorden, Laat Romantisch Zaterdagavondconcert bij kaarslicht
Zaterdag 2 juli 2016, aanvang 22.00 uur.
Toegang € 10,00 t/m 16 jaar vrij.
www.vriendenvandedorpskerkvorden.nl.' target='blank'>Een heerlijk uurtje vroege muziek voor de late avond wordt sfeervol gebracht door de harpiste Annegreet Rouw samen met de sopraan Elske te Lindert. 
Het is laat, schemerdonker in de kerk en de kaarsenluchters branden.

Dorpskerk Vorden, Laat Romantisch Zaterdagavondconcert bij kaarslicht
Zaterdag 2 juli 2016, aanvang 22.00 uur.
Toegang € 10,00 t/m 16 jaar vrij.
www.vriendenvandedorpskerkvorden.nl.</a></p>
DESCRIPTION:<a href='https://www.achterhoekfoto.nl/agenda/item//147835'>https://www.achterhoekfoto.nl/agenda/item//147835</a> || Laat Romantisch Zaterdagavondconcert bij kaarslichtEen heerlijk uurtje vroege muziek voor de late avond wordt sfeervol gebracht door de harpiste Annegreet Rouw samen met de sopraan Elske te Lindert. 
Het is laat, schemerdonker in de kerk en de kaarsenluchters branden.

Dorpskerk Vorden, Laat Romantisch Zaterdagavondconcert bij kaarslicht
Zaterdag 2 juli 2016, aanvang 22.00 uur.
Toegang € 10,00 t/m 16 jaar vrij.
www.vriendenvandedorpskerkvorden.nl.Een heerlijk uurtje vroege muziek voor de late avond wordt sfeervol gebracht door de harpiste Annegreet Rouw samen met de sopraan Elske te Lindert. 
Het is laat, schemerdonker in de kerk en de kaarsenluchters branden.

Dorpskerk Vorden, Laat Romantisch Zaterdagavondconcert bij kaarslicht
Zaterdag 2 juli 2016, aanvang 22.00 uur.
Toegang € 10,00 t/m 16 jaar vrij.
www.vriendenvandedorpskerkvorden.nl.
LAST-MODIFIED:20260423T163738Z
LOCATION:Muziek Dorpskerk Vorden Dorpskerk, Kerkstraat, 7251BC 4  Vorden
SEQUENCE:0
STATUS:CONFIRMED
SUMMARY:Laat Romantisch Zaterdagavondconcert bij Kaarslicht
TRANSP:OPAQUE
END:VEVENT
END:VCALENDAR
