BEGIN:VCALENDAR
PRODID:-//PUBBLE//an agenda//NL
VERSION:2.0
METHOD:PUBLISH
BEGIN:VEVENT
DTSTART:20160702T180000Z
DTEND:20160702T180000Z
DTSTAMP:20260423T152811Z
UID:28c1536f-dd6d-47c4-b65f-307202a9d5ce
CREATED:20260423T152811Z
URL:https://www.achterhoekfoto.nl/agenda/item/147830
NAME:Any O’Time met aanstekelijke blues en jazz op Hackfort AchterhoekFoto.nl
X-WR-CALNAME:Any O’Time met aanstekelijke blues en jazz op Hackfort AchterhoekFoto.nl
X-ALT-DESC;FMTTYPE=text/html:<a href='https://www.achterhoekfoto.nl/agenda/item//147830'>https://achterhoekfoto.nl/agenda/item//147830</a> || <p>Easy-going muziek waar het speelplezier van af spat!</p><p>De aanstekelijke muziek van Any O’Time is weer te horen op landgoed Hackfort! Heerlijke blues, gekke jazzy en absurde honkytonk-achtige muziekjes worden op zaterdag 2 juli ten gehore gebracht. Vooral het grote plezier in spelen dat de muzikanten hebben spat ervan af. Aanvang van het concert is om 20:00 uur in de sprookjesachtige setting van het vijvertheater. Voor leden van Natuurmonumenten is de entree € 12,00 voor het concert; voor niet leden € 17,00. Toegangskaart vooraf aanschaffen via Natuurmonumenten.nl/activiteiten.

Blues en jazz
Any O'Time speelt bluesliedjes uit de jaren twintig, gekke jazzy en honkytonk-achtige muziekjes uit de jaren vijftig en melancholische bluegrass. Maar ook muziek van Tom Waits wordt op eigen wijze uitgevoerd en de wat minder bekende hedendaagse popliedjes. De muzikanten hebben allemaal verschillende muzikale achtergronden: Ierse folk, klassiek, klezmer, bluegrass, Franse chansons en Nederlandstalig. De sfeer in de muziek is duidelijk voelbaar. Door ervaring, een scherp oor en de open-mind van ieder, ontstaat er een heel prettige easy-going sfeer wat ook te horen is in de muziek.

Bezetting
De bezetting bestaat uit Meike Wesselink - zang, Cornelie Wannee - viool, Martijn Ketelaar - gitaar/mandoline, Eugène Ligtvoet - gitaar/banjo, Wolfram Reisiger - Accordeon en Niek Hietbrink - trompet/contrabas.
Bij slecht weer wordt het concert verplaatst naar kasteel Hackfort.</p>
DESCRIPTION:<a href='https://www.achterhoekfoto.nl/agenda/item//147830'>https://www.achterhoekfoto.nl/agenda/item//147830</a> || Easy-going muziek waar het speelplezier van af spat!De aanstekelijke muziek van Any O’Time is weer te horen op landgoed Hackfort! Heerlijke blues, gekke jazzy en absurde honkytonk-achtige muziekjes worden op zaterdag 2 juli ten gehore gebracht. Vooral het grote plezier in spelen dat de muzikanten hebben spat ervan af. Aanvang van het concert is om 20:00 uur in de sprookjesachtige setting van het vijvertheater. Voor leden van Natuurmonumenten is de entree € 12,00 voor het concert; voor niet leden € 17,00. Toegangskaart vooraf aanschaffen via Natuurmonumenten.nl/activiteiten.

Blues en jazz
Any O'Time speelt bluesliedjes uit de jaren twintig, gekke jazzy en honkytonk-achtige muziekjes uit de jaren vijftig en melancholische bluegrass. Maar ook muziek van Tom Waits wordt op eigen wijze uitgevoerd en de wat minder bekende hedendaagse popliedjes. De muzikanten hebben allemaal verschillende muzikale achtergronden: Ierse folk, klassiek, klezmer, bluegrass, Franse chansons en Nederlandstalig. De sfeer in de muziek is duidelijk voelbaar. Door ervaring, een scherp oor en de open-mind van ieder, ontstaat er een heel prettige easy-going sfeer wat ook te horen is in de muziek.

Bezetting
De bezetting bestaat uit Meike Wesselink - zang, Cornelie Wannee - viool, Martijn Ketelaar - gitaar/mandoline, Eugène Ligtvoet - gitaar/banjo, Wolfram Reisiger - Accordeon en Niek Hietbrink - trompet/contrabas.
Bij slecht weer wordt het concert verplaatst naar kasteel Hackfort.
LAST-MODIFIED:20260423T152811Z
LOCATION:Natuurmonumenten Baakseweg 1A 7251RW Vorden
SEQUENCE:0
STATUS:CONFIRMED
SUMMARY:Any O’Time met aanstekelijke blues en jazz op Hackfort
TRANSP:OPAQUE
END:VEVENT
END:VCALENDAR
