BEGIN:VCALENDAR
PRODID:-//PUBBLE//an agenda//NL
VERSION:2.0
METHOD:PUBLISH
BEGIN:VEVENT
DTSTART:20160702T173000Z
DTEND:20160702T173000Z
DTSTAMP:20260423T140946Z
UID:fbb9556e-5aab-4a4f-9575-afd66c6a3e66
CREATED:20260423T140946Z
URL:https://www.achterhoekfoto.nl/agenda/item/147829
NAME:Zomerconcert Varsseveld Jubal en Concordia zaterdag 2 juli AchterhoekFoto.nl
X-WR-CALNAME:Zomerconcert Varsseveld Jubal en Concordia zaterdag 2 juli AchterhoekFoto.nl
X-ALT-DESC;FMTTYPE=text/html:<a href='https://www.achterhoekfoto.nl/agenda/item//147829'>https://achterhoekfoto.nl/agenda/item//147829</a> || <p>Op zaterdagavond 2 juli organiseren de Varsseveldse muziekverenigingen Concordia en Jubal een gezamenlijk zomerconcert.</p><p>Drie orkesten in één concert
Tijdens het zomerconcert treden op het A-orkest van Concordia, het A-orkest van Jubal en de Malletband van Jubal. De orkesten brengen een afwisselend en zomers programma ten gehore. 

Locatie, tijd en kosten
Het concert vindt plaats voor het Borchuus in het centrum van Varsseveld. Bij slecht weer wordt uitgeweken naar de Grote Kerk. Het concert begint om 19.30 uur en de toegang is gratis. Aan het einde zal er een vrije gift worden gevraagd ter compensatie van de gemaakte onkosten.

Meer informatie
Concordia is opgericht in 1880 en bestaat uit zo’n 40 muzikanten. Sinds 2004 staat het orkest onder leiding van dirigent Andy Kievits. 

Jubal is opgericht in 1943. Het A-orkest bestaat uit zo’n 60 leden en sinds 2000 staat het orkest onder leiding van Henk-Jan Heijnen. De malletband bestaat uit zo'n 15 leden en staat sinds 2007 onder de leiding van Marius Bongers. 

Meer informatie over de beide verenigingen vindt u op de websites www.concordia-varsseveld.nl en www.jubalvarsseveld.nl en op Facebook.</p>
DESCRIPTION:<a href='https://www.achterhoekfoto.nl/agenda/item//147829'>https://www.achterhoekfoto.nl/agenda/item//147829</a> || Op zaterdagavond 2 juli organiseren de Varsseveldse muziekverenigingen Concordia en Jubal een gezamenlijk zomerconcert.Drie orkesten in één concert
Tijdens het zomerconcert treden op het A-orkest van Concordia, het A-orkest van Jubal en de Malletband van Jubal. De orkesten brengen een afwisselend en zomers programma ten gehore. 

Locatie, tijd en kosten
Het concert vindt plaats voor het Borchuus in het centrum van Varsseveld. Bij slecht weer wordt uitgeweken naar de Grote Kerk. Het concert begint om 19.30 uur en de toegang is gratis. Aan het einde zal er een vrije gift worden gevraagd ter compensatie van de gemaakte onkosten.

Meer informatie
Concordia is opgericht in 1880 en bestaat uit zo’n 40 muzikanten. Sinds 2004 staat het orkest onder leiding van dirigent Andy Kievits. 

Jubal is opgericht in 1943. Het A-orkest bestaat uit zo’n 60 leden en sinds 2000 staat het orkest onder leiding van Henk-Jan Heijnen. De malletband bestaat uit zo'n 15 leden en staat sinds 2007 onder de leiding van Marius Bongers. 

Meer informatie over de beide verenigingen vindt u op de websites www.concordia-varsseveld.nl en www.jubalvarsseveld.nl en op Facebook.
LAST-MODIFIED:20260423T140946Z
LOCATION:Borchuus Kulturhus Varsseveld Kerkplein 3 7051CX Varsseveld
SEQUENCE:0
STATUS:CONFIRMED
SUMMARY:Zomerconcert Varsseveld Jubal en Concordia zaterdag 2 juli
TRANSP:OPAQUE
END:VEVENT
END:VCALENDAR
