BEGIN:VCALENDAR
PRODID:-//PUBBLE//an agenda//NL
VERSION:2.0
METHOD:PUBLISH
BEGIN:VEVENT
DTSTART:20160702T170000Z
DTEND:20160703T170000Z
DTSTAMP:20260423T123350Z
UID:43cd4672-4e9d-4b20-9dd2-ec8ba60b189c
CREATED:20260423T123350Z
URL:https://www.achterhoekfoto.nl/agenda/item/147828
NAME:Zomercarnaval Doetinchem AchterhoekFoto.nl
X-WR-CALNAME:Zomercarnaval Doetinchem AchterhoekFoto.nl
X-ALT-DESC;FMTTYPE=text/html:<a href='https://www.achterhoekfoto.nl/agenda/item//147828'>https://achterhoekfoto.nl/agenda/item//147828</a> || <p>Zomercarnaval Doetinchem</p><p>Zomercarnaval Doetinchem is het grootste Caribische Zomerfeest van de Achterhoek.
Met optredens van een o.a. Braziliaanse danseressen, een  Brassband, Jody Bernal en.... De Vengaboys!

Ga lekker chillen op een strand met beachbar  eventueel met een lekkere cocktail of.... een vers gedraaide "cubaanse Sigaar"?

Verder is er een bezoek van Queen Zomercarnaval 2016 uit Rotterdam en als de zon begint te zakken.... is er de grootse schuimparty van de regio.

Wilt u even rust.... dan is er een Chill / Lounge-hoek, om onderuitgezakt van de zomerse muziek te genieten.

Voor meer info of online tickets kijk op: www.zomercarnavaldoetinchem.nl

Ook voor adressen ticketvoorverkoop.</p>
DESCRIPTION:<a href='https://www.achterhoekfoto.nl/agenda/item//147828'>https://www.achterhoekfoto.nl/agenda/item//147828</a> || Zomercarnaval DoetinchemZomercarnaval Doetinchem is het grootste Caribische Zomerfeest van de Achterhoek.
Met optredens van een o.a. Braziliaanse danseressen, een  Brassband, Jody Bernal en.... De Vengaboys!

Ga lekker chillen op een strand met beachbar  eventueel met een lekkere cocktail of.... een vers gedraaide "cubaanse Sigaar"?

Verder is er een bezoek van Queen Zomercarnaval 2016 uit Rotterdam en als de zon begint te zakken.... is er de grootse schuimparty van de regio.

Wilt u even rust.... dan is er een Chill / Lounge-hoek, om onderuitgezakt van de zomerse muziek te genieten.

Voor meer info of online tickets kijk op: www.zomercarnavaldoetinchem.nl

Ook voor adressen ticketvoorverkoop.
LAST-MODIFIED:20260423T123350Z
LOCATION:Zomercarnaval Doetinchem Turfweg 4 7004 HP Doetinchem
SEQUENCE:0
STATUS:CONFIRMED
SUMMARY:Zomercarnaval Doetinchem
TRANSP:OPAQUE
END:VEVENT
END:VCALENDAR
