BEGIN:VCALENDAR
PRODID:-//PUBBLE//an agenda//NL
VERSION:2.0
METHOD:PUBLISH
BEGIN:VEVENT
DTSTART:20160702T150000Z
DTEND:20160702T150000Z
DTSTAMP:20260423T094608Z
UID:0a4b18c5-7faf-4301-bc76-b0cd81cfdbb0
CREATED:20260423T094608Z
URL:https://www.achterhoekfoto.nl/agenda/item/147821
NAME:DZSV – De Graafschap 2 juli AchterhoekFoto.nl
X-WR-CALNAME:DZSV – De Graafschap 2 juli AchterhoekFoto.nl
X-ALT-DESC;FMTTYPE=text/html:<a href='https://www.achterhoekfoto.nl/agenda/item//147821'>https://achterhoekfoto.nl/agenda/item//147821</a> || <p>DZSV – De Graafschap 2 juli</p><p>De wedstrijd zaterdag 2 juli begint om 17.00u. 
Plaats: Sportpark ’t Welink in Dinxperlo. 

De kassa’s gaan om 15:30 uur open en voor iedereen geldt:

Vanaf 18 jaar   : € 6,00 
65+                   : € 3,--
Kinderen t/m 17 jaar : € 3,--

Voor de wedstrijd ontvangt iedereen bij de kassa een armbandje, dit i.v.m. alcoholbeleid. 
Bij twijfel omtrent leeftijd kan om ID worden gevraagd. 

Voorverkoop

DZSV: donderdag 23 juni van 19.30 – 20.00u., zaterdag 25 juni van 13.00 – 14.00u. en maandag 27 juni van 19.30 – 20.00u. 

Meckings Sportshop in Ulft en 
Boekhandel Messink & Prinsen in Aalten.</p>
DESCRIPTION:<a href='https://www.achterhoekfoto.nl/agenda/item//147821'>https://www.achterhoekfoto.nl/agenda/item//147821</a> || DZSV – De Graafschap 2 juliDe wedstrijd zaterdag 2 juli begint om 17.00u. 
Plaats: Sportpark ’t Welink in Dinxperlo. 

De kassa’s gaan om 15:30 uur open en voor iedereen geldt:

Vanaf 18 jaar   : € 6,00 
65+                   : € 3,--
Kinderen t/m 17 jaar : € 3,--

Voor de wedstrijd ontvangt iedereen bij de kassa een armbandje, dit i.v.m. alcoholbeleid. 
Bij twijfel omtrent leeftijd kan om ID worden gevraagd. 

Voorverkoop

DZSV: donderdag 23 juni van 19.30 – 20.00u., zaterdag 25 juni van 13.00 – 14.00u. en maandag 27 juni van 19.30 – 20.00u. 

Meckings Sportshop in Ulft en 
Boekhandel Messink & Prinsen in Aalten.
LAST-MODIFIED:20260423T094608Z
LOCATION:c.s.v. DZSV Dinxperlo Europastraat 8A 7091XC Dinxperlo
SEQUENCE:0
STATUS:CONFIRMED
SUMMARY:DZSV – De Graafschap 2 juli
TRANSP:OPAQUE
END:VEVENT
END:VCALENDAR
